BEGIN:VCALENDAR
VERSION:2.0
PRODID:-//Plone.org//NONSGML plone.app.event//EN
X-WR-TIMEZONE:Europe/Berlin
BEGIN:VEVENT
SUMMARY:Wahlausschuss für die 13. Sozialwahl der BG ETEM
DTSTART;TZID=Europe/Berlin;VALUE=DATE-TIME:20231020T100000
DTEND;TZID=Europe/Berlin;VALUE=DATE-TIME:20231020T103000
DTSTAMP;VALUE=DATE-TIME:20260421T025520Z
UID:4bca4f6fa70d4011826085a9d4d10164@newsletter.bgetem.de
CREATED;VALUE=DATE-TIME:20231013T123202Z
DESCRIPTION:Am 20. Oktober 2023 tagt um 10 Uhr der Wahlausschuss für die 
 13. Sozialwahl der BG ETEM im Hotel Marriott in Köln. Die Sitzung ist öf
 fentlich.
LAST-MODIFIED;VALUE=DATE-TIME:20231013T123234Z
LOCATION:Köln
URL:https://newsletter.bgetem.de/presse-aktuelles/termine/wahlausschuss-fu
 er-die-13-sozialwahl-der-bg-etem
END:VEVENT
BEGIN:VTIMEZONE
TZID:Europe/Berlin
X-LIC-LOCATION:Europe/Berlin
BEGIN:DAYLIGHT
DTSTART;VALUE=DATE-TIME:20230326T030000
TZNAME:CEST
TZOFFSETFROM:+0100
TZOFFSETTO:+0200
END:DAYLIGHT
END:VTIMEZONE
END:VCALENDAR
