BEGIN:VCALENDAR
VERSION:2.0
PRODID:-//Plone.org//NONSGML plone.app.event//EN
X-WR-TIMEZONE:Europe/Berlin
BEGIN:VEVENT
SUMMARY:Virtueller Webtalk: Let’s talk about OSH - Have you ever…repor
 ted a near miss?
DTSTART;TZID=Europe/Berlin;VALUE=DATE-TIME:20230207T160000
DTEND;TZID=Europe/Berlin;VALUE=DATE-TIME:20230207T164500
DTSTAMP;VALUE=DATE-TIME:20260421T070843Z
UID:836fff0d74014d39890c3dd4f66ae47a@newsletter.bgetem.de
CONTACT:Jennifer Papantuono und Maria Scheuren\, 0221 3778-6031 oder -6041
CREATED;VALUE=DATE-TIME:20230126T132523Z
LAST-MODIFIED;VALUE=DATE-TIME:20230126T133056Z
LOCATION:virtuell (über Zoom)
URL:https://newsletter.bgetem.de/presse-aktuelles/termine/virtueller-webta
 lk-let2019s-talk-about-osh-have-you-ever-reported-a-near-miss
END:VEVENT
BEGIN:VTIMEZONE
TZID:Europe/Berlin
X-LIC-LOCATION:Europe/Berlin
BEGIN:STANDARD
DTSTART;VALUE=DATE-TIME:20221030T020000
TZNAME:CET
TZOFFSETFROM:+0200
TZOFFSETTO:+0100
END:STANDARD
END:VTIMEZONE
END:VCALENDAR
