BEGIN:VCALENDAR
VERSION:2.0
PRODID:-//Plone.org//NONSGML plone.app.event//EN
X-WR-TIMEZONE:Europe/Berlin
BEGIN:VEVENT
SUMMARY:Webtalk-Reihe: Let's talk about OSH - Have you ever faced a lithiu
 m-ion battery fire emergency?
DTSTART;TZID=Europe/Berlin;VALUE=DATE-TIME:20231009T160000
DTEND;TZID=Europe/Berlin;VALUE=DATE-TIME:20231009T164500
DTSTAMP;VALUE=DATE-TIME:20260421T054000Z
UID:f22453e748a14a64920e16febf3ce03e@newsletter.bgetem.de
CONTACT:Jennifer Papantuono\, 0221 3778-6031
CREATED;VALUE=DATE-TIME:20231002T113631Z
LAST-MODIFIED;VALUE=DATE-TIME:20231002T113923Z
LOCATION:Virtuell
URL:https://newsletter.bgetem.de/presse-aktuelles/termine/vierte-ausgabe-d
 er-webtalk-reihe-let2019s-talk-about-osh-have-you-ever-faced-a-lithium-ion
 -battery-fire-emergency
END:VEVENT
BEGIN:VTIMEZONE
TZID:Europe/Berlin
X-LIC-LOCATION:Europe/Berlin
BEGIN:DAYLIGHT
DTSTART;VALUE=DATE-TIME:20230326T030000
TZNAME:CEST
TZOFFSETFROM:+0100
TZOFFSETTO:+0200
END:DAYLIGHT
END:VTIMEZONE
END:VCALENDAR
