BEGIN:VCALENDAR
VERSION:2.0
PRODID:-//Plone.org//NONSGML plone.app.event//EN
X-WR-TIMEZONE:Europe/Berlin
BEGIN:VEVENT
SUMMARY:Vertreterversammlung
DTSTART;VALUE=DATE:20241213
DTEND;VALUE=DATE:20241214
DTSTAMP;VALUE=DATE-TIME:20260421T024554Z
UID:656455f9231a48b8a9e426d60572c519@newsletter.bgetem.de
CREATED;VALUE=DATE-TIME:20240723T094035Z
LAST-MODIFIED;VALUE=DATE-TIME:20240723T094417Z
LOCATION:Köln
URL:https://newsletter.bgetem.de/presse-aktuelles/termine/vertreterversamm
 lung
END:VEVENT
END:VCALENDAR
