BEGIN:VCALENDAR
VERSION:2.0
PRODID:-//Plone.org//NONSGML plone.app.event//EN
X-WR-TIMEZONE:Europe/Berlin
BEGIN:VEVENT
SUMMARY:Prävention bei krebserzeugenden Gefahrstoffen - auf jede Frage ei
 ne Antwort
DTSTART;VALUE=DATE:20230328
DTEND;VALUE=DATE:20230329
DTSTAMP;VALUE=DATE-TIME:20260421T054513Z
UID:3c198991c90742de80f2e0ca8aa94608@newsletter.bgetem.de
CREATED;VALUE=DATE-TIME:20221212T101348Z
LAST-MODIFIED;VALUE=DATE-TIME:20221212T102719Z
LOCATION:IFA Institut für Arbeitsschutz der DGUV\, Sankt Augustin oder on
 line
URL:https://newsletter.bgetem.de/presse-aktuelles/termine/praevention-bei-
 krebserzeugenden-gefahrstoffen-auf-jede-frage-eine-antwort
END:VEVENT
END:VCALENDAR
