BEGIN:VCALENDAR
VERSION:2.0
PRODID:-//Plone.org//NONSGML plone.app.event//EN
X-WR-TIMEZONE:Europe/Berlin
BEGIN:VEVENT
SUMMARY:Messe "Solar Solutions Düsseldorf"
DTSTART;VALUE=DATE:20231129
DTEND;VALUE=DATE:20231201
DTSTAMP;VALUE=DATE-TIME:20260421T024626Z
UID:20d85da3fc9a449a8a94944e5ed65006@newsletter.bgetem.de
CONTACT:messe@bgetem.de\, messe@bgetem.de
CREATED;VALUE=DATE-TIME:20231019T100544Z
DESCRIPTION:Besuchen Sie uns in Halle 14 am Stand C7.
LAST-MODIFIED;VALUE=DATE-TIME:20231019T100621Z
LOCATION:Düsseldorf
URL:https://newsletter.bgetem.de/presse-aktuelles/termine/messe-solar-solu
 tions-duesseldorf
END:VEVENT
END:VCALENDAR
