BEGIN:VCALENDAR
VERSION:2.0
PRODID:-//Plone.org//NONSGML plone.app.event//EN
X-WR-TIMEZONE:Europe/Berlin
BEGIN:VEVENT
SUMMARY:Messe "Solar Solution International"
DTSTART;VALUE=DATE:20221130
DTEND;VALUE=DATE:20221202
DTSTAMP;VALUE=DATE-TIME:20260421T042113Z
UID:9151ad17903743d2901510ef77e6772d@newsletter.bgetem.de
CONTACT:Nicole Schüssler\, 0221 3778-6074\, messe@bgetem.de
CREATED;VALUE=DATE-TIME:20210722T091053Z
DESCRIPTION:Gratis-Ticket verfügbar. Besuchen Sie uns in Halle 8B am Stan
 d E6.1.
LAST-MODIFIED;VALUE=DATE-TIME:20221116T153820Z
LOCATION:Düsseldorf
URL:https://newsletter.bgetem.de/presse-aktuelles/termine/messe-solar-solu
 tion-international
END:VEVENT
END:VCALENDAR
