BEGIN:VCALENDAR
VERSION:2.0
PRODID:-//Plone.org//NONSGML plone.app.event//EN
X-WR-TIMEZONE:Europe/Berlin
BEGIN:VEVENT
SUMMARY:Messe "prolight & sound"
DTSTART;VALUE=DATE:20220426
DTEND;VALUE=DATE:20220430
DTSTAMP;VALUE=DATE-TIME:20260421T042125Z
UID:887342b1d42d4454b9a6db8e399d2531@newsletter.bgetem.de
CONTACT:messe@bgetem.de\, messe@bgetem.de
CREATED;VALUE=DATE-TIME:20200625T085031Z
DESCRIPTION:Besuchen Sie uns in Halle 11\, Stand 11.0 B49.
LAST-MODIFIED;VALUE=DATE-TIME:20220221T141900Z
LOCATION:Frankfurt
URL:https://newsletter.bgetem.de/presse-aktuelles/termine/messe-prolight-s
 ound-2
END:VEVENT
END:VCALENDAR
