BEGIN:VCALENDAR
VERSION:2.0
PRODID:-//Plone.org//NONSGML plone.app.event//EN
X-WR-TIMEZONE:Europe/Berlin
BEGIN:VEVENT
SUMMARY:Messe "OTWorld"
DTSTART;VALUE=DATE:20220510
DTEND;VALUE=DATE:20220514
DTSTAMP;VALUE=DATE-TIME:20260421T042112Z
UID:dcd889573a4f4168ae8bbff883a5e162@newsletter.bgetem.de
CONTACT:messe@bgetem.de\, messe@bgetem.de
CREATED;VALUE=DATE-TIME:20211110T125502Z
DESCRIPTION:Besuchen Sie uns in Halle 1\, Stand A25.
LAST-MODIFIED;VALUE=DATE-TIME:20220221T142202Z
LOCATION:Leipzig
URL:https://newsletter.bgetem.de/presse-aktuelles/termine/messe-otworld
END:VEVENT
END:VCALENDAR
