BEGIN:VCALENDAR
VERSION:2.0
PRODID:-//Plone.org//NONSGML plone.app.event//EN
X-WR-TIMEZONE:Europe/Berlin
BEGIN:VEVENT
SUMMARY:Messe "light & building"
DTSTART;VALUE=DATE:20221002
DTEND;VALUE=DATE:20221007
DTSTAMP;VALUE=DATE-TIME:20260421T042112Z
UID:675d7db41a124fcf99b9cd044242b82f@newsletter.bgetem.de
CONTACT:messe@bgetem.de\, messe@bgetem.de
CREATED;VALUE=DATE-TIME:20211110T130626Z
DESCRIPTION:Besuchen Sie uns in Halle 11.0\, Stand B93.
LAST-MODIFIED;VALUE=DATE-TIME:20220722T145330Z
LOCATION:Frankfurt am Main
URL:https://newsletter.bgetem.de/presse-aktuelles/termine/messe-light-buil
 ding-1
END:VEVENT
END:VCALENDAR
