BEGIN:VCALENDAR
VERSION:2.0
PRODID:-//Plone.org//NONSGML plone.app.event//EN
X-WR-TIMEZONE:Europe/Berlin
BEGIN:VEVENT
SUMMARY:Messe "Intersolar"
DTSTART;VALUE=DATE:20220511
DTEND;VALUE=DATE:20220514
DTSTAMP;VALUE=DATE-TIME:20260421T042124Z
UID:463972274ba743f8aecff0bd94645c62@newsletter.bgetem.de
CONTACT:messe@bgetem.de\, messe@bgetem.de
CREATED;VALUE=DATE-TIME:20200625T095336Z
DESCRIPTION:Besuchen Sie uns in Halle 5\, Stand A5.460.
LAST-MODIFIED;VALUE=DATE-TIME:20220221T142217Z
LOCATION:München
URL:https://newsletter.bgetem.de/presse-aktuelles/termine/messe-intersolar
 -europe-1
END:VEVENT
END:VCALENDAR
