BEGIN:VCALENDAR
VERSION:2.0
PRODID:-//Plone.org//NONSGML plone.app.event//EN
X-WR-TIMEZONE:Europe/Berlin
BEGIN:VEVENT
SUMMARY:Messe "INTERSCHUTZ"
DTSTART;VALUE=DATE:20220620
DTEND;VALUE=DATE:20220626
DTSTAMP;VALUE=DATE-TIME:20260421T042048Z
UID:ab5ad727a51e41008b68c064ebf89175@newsletter.bgetem.de
CONTACT:messe@bgetem.de\, messe@bgetem.de
CREATED;VALUE=DATE-TIME:20191015T165006Z
DESCRIPTION:Besuchen Sie uns an unserem Gemeinschaftsstand mit der DGUV (F
 achbereich Feuerwehren\, Hilfeleistungen\, Brandschutz) in Halle 27\, Stan
 d D38.
LAST-MODIFIED;VALUE=DATE-TIME:20220620T150406Z
LOCATION:Hannover
URL:https://newsletter.bgetem.de/presse-aktuelles/termine/messe-interschut
 z
END:VEVENT
END:VCALENDAR
