BEGIN:VCALENDAR
VERSION:2.0
PRODID:-//Plone.org//NONSGML plone.app.event//EN
X-WR-TIMEZONE:Europe/Berlin
BEGIN:VEVENT
SUMMARY:Messe "InnoTrans"
DTSTART;VALUE=DATE:20220920
DTEND;VALUE=DATE:20220924
DTSTAMP;VALUE=DATE-TIME:20260421T042124Z
UID:3d436f8fc6444109949d6c6a701bbe62@newsletter.bgetem.de
CONTACT:messe@bgetem.de\, messe@bgetem.de
CREATED;VALUE=DATE-TIME:20200625T092657Z
DESCRIPTION:Besuchen Sie uns in Halle 25\, Stand 280.
LAST-MODIFIED;VALUE=DATE-TIME:20220712T124011Z
LOCATION:Berlin
URL:https://newsletter.bgetem.de/presse-aktuelles/termine/messe-innotrans-
 1
END:VEVENT
END:VCALENDAR
