BEGIN:VCALENDAR
VERSION:2.0
PRODID:-//Plone.org//NONSGML plone.app.event//EN
X-WR-TIMEZONE:Europe/Berlin
BEGIN:VEVENT
SUMMARY:Messe "IFH/Intherm"
DTSTART;VALUE=DATE:20220426
DTEND;VALUE=DATE:20220430
DTSTAMP;VALUE=DATE-TIME:20260421T042124Z
UID:c14c4af4da3b43289df3f838b4b09b4f@newsletter.bgetem.de
CONTACT:messe@bgetem.de\, messe@bgetem.de
CREATED;VALUE=DATE-TIME:20191015T164717Z
DESCRIPTION:Besuchen Sie uns in Halle 4\, Stand 301.
LAST-MODIFIED;VALUE=DATE-TIME:20220221T142109Z
LOCATION:Nürnberg
URL:https://newsletter.bgetem.de/presse-aktuelles/termine/messe-ifh-inther
 m
END:VEVENT
END:VCALENDAR
