BEGIN:VCALENDAR
VERSION:2.0
PRODID:-//Plone.org//NONSGML plone.app.event//EN
X-WR-TIMEZONE:Europe/Berlin
BEGIN:VEVENT
SUMMARY:Messe "IDS"
DTSTART;VALUE=DATE:20230314
DTEND;VALUE=DATE:20230319
DTSTAMP;VALUE=DATE-TIME:20260421T042113Z
UID:5366a4ff7fdb478e9dade4708a6696b2@newsletter.bgetem.de
CONTACT:messe@bgetem.de\, messe@bgetem.de
CREATED;VALUE=DATE-TIME:20221024T132928Z
DESCRIPTION:Besuchen Sie uns in Halle 11.2\, Gang S Nr. 030/Gang T Nr. 031
 .
LAST-MODIFIED;VALUE=DATE-TIME:20221024T135509Z
LOCATION:Köln
URL:https://newsletter.bgetem.de/presse-aktuelles/termine/messe-ids-1
END:VEVENT
END:VCALENDAR
