BEGIN:VCALENDAR
VERSION:2.0
PRODID:-//Plone.org//NONSGML plone.app.event//EN
X-WR-TIMEZONE:Europe/Berlin
BEGIN:VEVENT
SUMMARY:Messe "iaf"
DTSTART;VALUE=DATE:20220531
DTEND;VALUE=DATE:20220603
DTSTAMP;VALUE=DATE-TIME:20260421T042113Z
UID:c0876e868ed741388af949cf04c9e06b@newsletter.bgetem.de
CONTACT:messe@bgetem.de\, messe@bgetem.de
CREATED;VALUE=DATE-TIME:20211110T130053Z
DESCRIPTION:Besuchen Sie uns in Halle Süd\, Stand S-411.
LAST-MODIFIED;VALUE=DATE-TIME:20220221T142147Z
LOCATION:Münster
URL:https://newsletter.bgetem.de/presse-aktuelles/termine/messe-iaf
END:VEVENT
END:VCALENDAR
