BEGIN:VCALENDAR
VERSION:2.0
PRODID:-//Plone.org//NONSGML plone.app.event//EN
X-WR-TIMEZONE:Europe/Berlin
BEGIN:VEVENT
SUMMARY:Messe "GET Nord"
DTSTART;VALUE=DATE:20221117
DTEND;VALUE=DATE:20221120
DTSTAMP;VALUE=DATE-TIME:20260421T042111Z
UID:e525d9063626485faa80d89454825ac3@newsletter.bgetem.de
CONTACT:messe@bgetem.de\, messe@bgetem.de
CREATED;VALUE=DATE-TIME:20191015T170802Z
DESCRIPTION:Besuchen Sie uns in Halle B5\, Stand B.511.
LAST-MODIFIED;VALUE=DATE-TIME:20220712T124830Z
LOCATION:Hamburg
URL:https://newsletter.bgetem.de/presse-aktuelles/termine/messe-get-nord
END:VEVENT
END:VCALENDAR
