BEGIN:VCALENDAR
VERSION:2.0
PRODID:-//Plone.org//NONSGML plone.app.event//EN
X-WR-TIMEZONE:Europe/Berlin
BEGIN:VEVENT
SUMMARY:Messe "GAT Wat"
DTSTART;VALUE=DATE:20230906
DTEND;VALUE=DATE:20230908
DTSTAMP;VALUE=DATE-TIME:20260421T024553Z
UID:b3dc8548b09345b3bc7d1e721f0a482b@newsletter.bgetem.de
CONTACT:messe@bgetem.de\, messe@bgetem.de
CREATED;VALUE=DATE-TIME:20230602T133219Z
DESCRIPTION:Besuchen Sie uns in Halle 7\, Stand A24
LAST-MODIFIED;VALUE=DATE-TIME:20230609T094838Z
LOCATION:Köln
URL:https://newsletter.bgetem.de/presse-aktuelles/termine/messe-gat-wat
END:VEVENT
END:VCALENDAR
