BEGIN:VCALENDAR
VERSION:2.0
PRODID:-//Plone.org//NONSGML plone.app.event//EN
X-WR-TIMEZONE:Europe/Berlin
BEGIN:VEVENT
SUMMARY:Messe "Elektrotechnik"
DTSTART;VALUE=DATE:20230208
DTEND;VALUE=DATE:20230211
DTSTAMP;VALUE=DATE-TIME:20260421T042124Z
UID:d85c11609137423bb29c264f31f7f070@newsletter.bgetem.de
CONTACT:messe@bgetem.de\, messe@bgetem.de
CREATED;VALUE=DATE-TIME:20221024T132740Z
DESCRIPTION:Besuchen Sie uns in Halle 5\, Stand 5.D18. Arbeitssicherheitss
 eminare finden in Halle 6 statt.
LAST-MODIFIED;VALUE=DATE-TIME:20230120T162738Z
LOCATION:Dortmund
URL:https://newsletter.bgetem.de/presse-aktuelles/termine/messe-elektrotec
 hnik-1
END:VEVENT
END:VCALENDAR
