BEGIN:VCALENDAR
VERSION:2.0
PRODID:-//Plone.org//NONSGML plone.app.event//EN
X-WR-TIMEZONE:Europe/Berlin
BEGIN:VEVENT
SUMMARY:Messe "efa"
DTSTART;VALUE=DATE:20230912
DTEND;VALUE=DATE:20230915
DTSTAMP;VALUE=DATE-TIME:20260421T024529Z
UID:59bb03b44c3246a1a5799e85b8eab391@newsletter.bgetem.de
CONTACT:messe@bgetem.de\, messe@bgetem.de
CREATED;VALUE=DATE-TIME:20200625T095511Z
DESCRIPTION:Besuchen Sie uns in Halle 5\, Stand B17. Inklusive Arbeitssich
 erheitsseminare für Auszubildende
LAST-MODIFIED;VALUE=DATE-TIME:20230612T082431Z
LOCATION:Leipzig
URL:https://newsletter.bgetem.de/presse-aktuelles/termine/messe-efa
END:VEVENT
END:VCALENDAR
