BEGIN:VCALENDAR
VERSION:2.0
PRODID:-//Plone.org//NONSGML plone.app.event//EN
X-WR-TIMEZONE:Europe/Berlin
BEGIN:VEVENT
SUMMARY:Messe "Biogas Convention Nürnberg"
DTSTART;VALUE=DATE:20231212
DTEND;VALUE=DATE:20231215
DTSTAMP;VALUE=DATE-TIME:20260421T042155Z
UID:86018a3a85a34b96b1c220bbef34944f@newsletter.bgetem.de
CONTACT:messe@bgetem.de\, messe@bgetem.de
CREATED;VALUE=DATE-TIME:20231019T100742Z
DESCRIPTION:Besuchen Sie uns in Halle 9 am Stand F24.
LAST-MODIFIED;VALUE=DATE-TIME:20231019T100832Z
LOCATION:Nürnberg
URL:https://newsletter.bgetem.de/presse-aktuelles/termine/messe-biogas-con
 vention-nuernberg
END:VEVENT
END:VCALENDAR
