BEGIN:VCALENDAR
VERSION:2.0
PRODID:-//Plone.org//NONSGML plone.app.event//EN
X-WR-TIMEZONE:Europe/Berlin
BEGIN:VEVENT
SUMMARY:Messe "belektro Berlin"
DTSTART;VALUE=DATE:20241105
DTEND;VALUE=DATE:20241108
DTSTAMP;VALUE=DATE-TIME:20260421T024727Z
UID:c08637116baf4de1b8f887739635e26b@newsletter.bgetem.de
CONTACT:messe@bgetem.de\, messe@bgetem.de
CREATED;VALUE=DATE-TIME:20231113T101453Z
DESCRIPTION:Die BG ETEM ist als Aussteller vertreten. Wir freuen uns auf I
 hren Besuch in Halle 3.2 am Stand 402.
LAST-MODIFIED;VALUE=DATE-TIME:20240813T095638Z
LOCATION:Berlin
URL:https://newsletter.bgetem.de/presse-aktuelles/termine/messe-belektro-b
 erlin
END:VEVENT
END:VCALENDAR
