BEGIN:VCALENDAR
VERSION:2.0
PRODID:-//Plone.org//NONSGML plone.app.event//EN
X-WR-TIMEZONE:Europe/Berlin
BEGIN:VEVENT
SUMMARY:Messe "arbeitsschutz aktuell"
DTSTART;VALUE=DATE:20221018
DTEND;VALUE=DATE:20221021
DTSTAMP;VALUE=DATE-TIME:20260421T042154Z
UID:75f4bfec5d0240c2a91d82720c22473c@newsletter.bgetem.de
CONTACT:messe@bgetem.de\, messe@bgetem.de
CREATED;VALUE=DATE-TIME:20211110T130218Z
DESCRIPTION:Besuchen Sie uns in Halle 1\, Stand G1.018.
LAST-MODIFIED;VALUE=DATE-TIME:20220722T145526Z
LOCATION:Stuttgart
URL:https://newsletter.bgetem.de/presse-aktuelles/termine/messe-arbeitssch
 utz-aktuell-1
END:VEVENT
END:VCALENDAR
