BEGIN:VCALENDAR
VERSION:2.0
PRODID:-//Plone.org//NONSGML plone.app.event//EN
X-WR-TIMEZONE:Europe/Berlin
BEGIN:VEVENT
SUMMARY:Messe "A+A"
DTSTART;VALUE=DATE:20231024
DTEND;VALUE=DATE:20231028
DTSTAMP;VALUE=DATE-TIME:20260421T024523Z
UID:e04db0714147460abd2aa4ceb923a79a@newsletter.bgetem.de
CONTACT:messe@bgetem.de\, messe@bgetem.de
CREATED;VALUE=DATE-TIME:20221024T141046Z
DESCRIPTION:Besuchen Sie uns in Halle 5\, Stand A04/F06
LAST-MODIFIED;VALUE=DATE-TIME:20230705T113919Z
LOCATION:Düsseldorf
URL:https://newsletter.bgetem.de/presse-aktuelles/termine/messe-a-a
END:VEVENT
END:VCALENDAR
