BEGIN:VCALENDAR
VERSION:2.0
PRODID:-//Plone.org//NONSGML plone.app.event//EN
X-WR-TIMEZONE:Europe/Berlin
BEGIN:VEVENT
SUMMARY:Messe "A+A"
DTSTART;VALUE=DATE:20251104
DTEND;VALUE=DATE:20251108
DTSTAMP;VALUE=DATE-TIME:20260421T011436Z
UID:5f86283a86a1498fbf550321c08828f8@newsletter.bgetem.de
CONTACT:messe@bgetem.de\, messe@bgetem.de
CREATED;VALUE=DATE-TIME:20250616T061631Z
DESCRIPTION:Die BG ETEM ist als Aussteller vertreten. Wir freuen uns auf I
 hren Besuch am Gemeinschaftsstand der DGUV\, Halle 5\, Stand D32.
LAST-MODIFIED;VALUE=DATE-TIME:20251001T121959Z
LOCATION:Düsseldorf
URL:https://newsletter.bgetem.de/presse-aktuelles/termine/messe-a-a-1
END:VEVENT
END:VCALENDAR
