BEGIN:VCALENDAR
VERSION:2.0
PRODID:-//Plone.org//NONSGML plone.app.event//EN
X-WR-TIMEZONE:Europe/Berlin
BEGIN:VEVENT
SUMMARY:Fortbildung für Betriebsärzte und -ärztinnen
DTSTART;TZID=Europe/Berlin;VALUE=DATE-TIME:20221114T124500
DTEND;TZID=Europe/Berlin;VALUE=DATE-TIME:20221115T141500
DTSTAMP;VALUE=DATE-TIME:20260421T042918Z
UID:46bc47cf66ec48dcbf64e619fd906d8a@newsletter.bgetem.de
CREATED;VALUE=DATE-TIME:20220628T130019Z
DESCRIPTION:Das Online-Seminar vermittelt anwendungsbezogene Informationen
  zu aktuellen arbeitsmedizinischen Themen\, zum Arbeitsschutz\, zur Berufs
 politik und zu Themen der BG ETEM.
LAST-MODIFIED;VALUE=DATE-TIME:20220630T144341Z
LOCATION:Online
URL:https://newsletter.bgetem.de/presse-aktuelles/termine/jaehrliches-onli
 ne-seminar-fuer-betriebsaerzte-und-aerztinnen
END:VEVENT
BEGIN:VTIMEZONE
TZID:Europe/Berlin
X-LIC-LOCATION:Europe/Berlin
BEGIN:STANDARD
DTSTART;VALUE=DATE-TIME:20221030T020000
TZNAME:CET
TZOFFSETFROM:+0200
TZOFFSETTO:+0100
END:STANDARD
END:VTIMEZONE
END:VCALENDAR
