BEGIN:VCALENDAR
VERSION:2.0
PRODID:-//Plone.org//NONSGML plone.app.event//EN
X-WR-TIMEZONE:Europe/Berlin
BEGIN:VEVENT
SUMMARY:Forum zu Sicherheit und Gesundheit am Arbeitsplatz
DTSTART;VALUE=DATE:20211123
DTEND;VALUE=DATE:20211124
DTSTAMP;VALUE=DATE-TIME:20260421T071012Z
UID:fdb3308408034b0eb3cae52e958d6963@newsletter.bgetem.de
CREATED;VALUE=DATE-TIME:20210408T074034Z
LAST-MODIFIED;VALUE=DATE-TIME:20211104T102628Z
LOCATION:virtuell
URL:https://newsletter.bgetem.de/presse-aktuelles/termine/forum-zur-sicher
 heit-und-gesundheit-am-arbeitsplatz
END:VEVENT
END:VCALENDAR
