BEGIN:VCALENDAR
VERSION:2.0
PRODID:-//Plone.org//NONSGML plone.app.event//EN
X-WR-TIMEZONE:Europe/Berlin
BEGIN:VEVENT
SUMMARY:Fachtagung Digitalisierung der Arbeitswelt
DTSTART;TZID=Europe/Berlin;VALUE=DATE-TIME:20230928T130000
DTEND;TZID=Europe/Berlin;VALUE=DATE-TIME:20230929T123000
DTSTAMP;VALUE=DATE-TIME:20260421T024935Z
UID:bc066d1505c941ff9298142b2965d4fa@newsletter.bgetem.de
CONTACT:Tagungsbüro\, 0221 3778-6190\, anmeldung@bgetem.de
CREATED;VALUE=DATE-TIME:20230406T111048Z
LAST-MODIFIED;VALUE=DATE-TIME:20230803T121434Z
LOCATION:Virtuell
URL:https://newsletter.bgetem.de/presse-aktuelles/termine/fachtagung-digit
 alisierung-der-arbeitswelt-1
END:VEVENT
BEGIN:VTIMEZONE
TZID:Europe/Berlin
X-LIC-LOCATION:Europe/Berlin
BEGIN:DAYLIGHT
DTSTART;VALUE=DATE-TIME:20230326T030000
TZNAME:CEST
TZOFFSETFROM:+0100
TZOFFSETTO:+0200
END:DAYLIGHT
END:VTIMEZONE
END:VCALENDAR
