BEGIN:VCALENDAR
VERSION:2.0
PRODID:-//Plone.org//NONSGML plone.app.event//EN
X-WR-TIMEZONE:Europe/Berlin
BEGIN:VEVENT
SUMMARY:Betriebsärztliche Fortbildung der BG ETEM 2023
DTSTART;TZID=Europe/Berlin;VALUE=DATE-TIME:20231113T130000
DTEND;TZID=Europe/Berlin;VALUE=DATE-TIME:20231114T133000
DTSTAMP;VALUE=DATE-TIME:20260421T070942Z
UID:546c6dc19de5428497d15a99b62b97b9@newsletter.bgetem.de
CONTACT:Sabine Michels\, 0221-3778-6698\, arbeitsmedizin@bgetem.de
CREATED;VALUE=DATE-TIME:20230504T131606Z
DESCRIPTION:Die Berufsgenossenschaft Energie Textil Elektro Medienerzeugni
 sse (BG ETEM) lädt Sie auch in diesem Jahr herzlich zur betriebsärztlich
 en Fortbildung ein.
LAST-MODIFIED;VALUE=DATE-TIME:20230825T054258Z
LOCATION:Online
URL:https://newsletter.bgetem.de/presse-aktuelles/termine/betriebsaerztlic
 he-fortbildung-der-bgetem-2023
END:VEVENT
BEGIN:VTIMEZONE
TZID:Europe/Berlin
X-LIC-LOCATION:Europe/Berlin
BEGIN:STANDARD
DTSTART;VALUE=DATE-TIME:20231029T020000
TZNAME:CET
TZOFFSETFROM:+0200
TZOFFSETTO:+0100
END:STANDARD
END:VTIMEZONE
END:VCALENDAR
