BEGIN:VCALENDAR
VERSION:2.0
PRODID:-//Plone.org//NONSGML plone.app.event//EN
X-WR-TIMEZONE:Europe/Berlin
BEGIN:VEVENT
SUMMARY:7. Fachtagung "Arbeitssicherheit in der Gasversorgung"
DTSTART;VALUE=DATE:20221102
DTEND;VALUE=DATE:20221104
DTSTAMP;VALUE=DATE-TIME:20260421T053718Z
UID:13f0c97c80c0471caf55c6fb175c1c99@newsletter.bgetem.de
CREATED;VALUE=DATE-TIME:20220321T091522Z
LAST-MODIFIED;VALUE=DATE-TIME:20220816T092212Z
LOCATION:Online
URL:https://newsletter.bgetem.de/presse-aktuelles/termine/7-fachtagung-gas
 versorgung
END:VEVENT
END:VCALENDAR
